BEGIN:VCALENDAR
VERSION:2.0
PRODID:-//Arizona Bench Rest Shooters - ECPv5.0.1//NONSGML v1.0//EN
CALSCALE:GREGORIAN
METHOD:PUBLISH
X-WR-CALNAME:Arizona Bench Rest Shooters
X-ORIGINAL-URL:https://azbrs.com
X-WR-CALDESC:Events for Arizona Bench Rest Shooters
BEGIN:VTIMEZONE
TZID:UTC
BEGIN:STANDARD
TZOFFSETFROM:+0000
TZOFFSETTO:+0000
TZNAME:UTC
DTSTART:20220101T000000
END:STANDARD
END:VTIMEZONE
BEGIN:VEVENT
DTSTART;TZID=UTC:20221110T080000
DTEND;TZID=UTC:20221111T160000
DTSTAMP:20260421T101308
CREATED:20210906T232330Z
LAST-MODIFIED:20210906T232330Z
UID:1215-1668067200-1668182400@azbrs.com
SUMMARY:2022 SP-Unl5 AZBRS Club Match Practice
DESCRIPTION:There will be no practice allowed before or after the matches on Saturday and Sunday unless specifically authorized by the Match Director and Range Officer. \nPractice Day 1: Thursday\, November 10\, 2022 \n\nPractice begins at 8:00am and ends at 5:00pm.\nPractice is $8 per day. You must sign in before you begin shooting.\nYou can register for the match anytime during the day. If you register before practice you will be assigned a bench number and you can practice on the actual bench that you will be shooting on during the match.\nFREE water will be provided.\n\nPractice Day 2: Friday\, November 11\, 2022 \n\nPractice begins at 8:00am and ends at 4:00pm.\nPractice is $8 per day. You must sign in before you begin shooting.\nYou can register for the match anytime during the day. If you register before practice you will be assigned a bench number and you can practice on the actual bench that you will be shooting on during the match.\nFREE water will be provided.\nTarget frames will be placed after practice ends at 4:00pm so that shooters can set up their wind flags.\n\n
URL:https://azbrs.com/matches/2022-sp-unl5-azbrs-club-match-practice-2/
LOCATION:Ben Avery Shooting Facility\, 4044 W Black Canyon Blvd\, Phoenix\, AZ\, 85086\, United States
ORGANIZER;CN="Arizona%20Bench%20Rest%20Shooters":MAILTO:AZBenchrest@gmail.com
END:VEVENT
END:VCALENDAR